BEGIN:VCALENDAR
VERSION:2.0
PRODID:-//Progressive Arnis - ECPv6.15.20//NONSGML v1.0//EN
CALSCALE:GREGORIAN
METHOD:PUBLISH
X-WR-CALNAME:Progressive Arnis
X-ORIGINAL-URL:https://progressivearnis.com
X-WR-CALDESC:Events for Progressive Arnis
REFRESH-INTERVAL;VALUE=DURATION:PT1H
X-Robots-Tag:noindex
X-PUBLISHED-TTL:PT1H
BEGIN:VTIMEZONE
TZID:America/Denver
BEGIN:DAYLIGHT
TZOFFSETFROM:-0700
TZOFFSETTO:-0600
TZNAME:MDT
DTSTART:20220313T090000
END:DAYLIGHT
BEGIN:STANDARD
TZOFFSETFROM:-0600
TZOFFSETTO:-0700
TZNAME:MST
DTSTART:20221106T080000
END:STANDARD
BEGIN:DAYLIGHT
TZOFFSETFROM:-0700
TZOFFSETTO:-0600
TZNAME:MDT
DTSTART:20230312T090000
END:DAYLIGHT
BEGIN:STANDARD
TZOFFSETFROM:-0600
TZOFFSETTO:-0700
TZNAME:MST
DTSTART:20231105T080000
END:STANDARD
BEGIN:DAYLIGHT
TZOFFSETFROM:-0700
TZOFFSETTO:-0600
TZNAME:MDT
DTSTART:20240310T090000
END:DAYLIGHT
BEGIN:STANDARD
TZOFFSETFROM:-0600
TZOFFSETTO:-0700
TZNAME:MST
DTSTART:20241103T080000
END:STANDARD
END:VTIMEZONE
BEGIN:VEVENT
DTSTART;VALUE=DATE:20230929
DTEND;VALUE=DATE:20231002
DTSTAMP:20260425T054936
CREATED:20230611T201057Z
LAST-MODIFIED:20240908T220329Z
UID:10000005-1695945600-1696204799@progressivearnis.com
SUMMARY:Modern Arnis World Legacy Camp
DESCRIPTION:Senior Students of the late/great Remy Presas will be teaching their personal evolution of Modern Arnis. \nCromwell\, CT \n\n3-Days / $300 \n\n\n\n\n\n\nLEGACY CAMP INSTRUCTOR SCHEDULE:\n\n\nFriday 9/29/2023:\n\n\n8:45AM Camp opens\n9AM GM Bruce Chiu\n10AM GM Bram Frank\n11AM GM Dieter Knuttel\n12 noon Lunch\n1PM Professor Dan Anderson\n2PM Tuhon Ray Dionaldo\n3PM Master of Tapi Tapi Roland Rivera\n4PM Shinshii Janet Aalfs\n5PM Dinner\n7PM GMZ\n8PM Guest Instructor\n\n\n\nSaturday\, 9/30/2023:\n\n\n9AM Tuhon Ray\n10AM Shinshii Janet\n11AM GM Bruce\n12 noon GM Bram\n1PM Lunch\n2PM MoTT Roland\n3PM GM Dieter\n4PM Guest Instructor\n5PM Prof. Dan\n6PM Dinner\n7PM Q n A w/ Instructors !!!\n\n\n\nSunday 10/1/2023:\n\n\n9AM MoTT Roland\n10AM Prof. Dan\n11AM GM Dieter\n12 noon Tuhon Ray\n1PM Lunch\n2PM GMZ\n3PM GM Bram\n4PM GM Bruce\n5PM Camp ends\n\n\n(Schedule subject to change as needed). Each session will end with a 5 min water break. See you at LEGACY CAMP!
URL:https://progressivearnis.com/event/modern-arnis-legacy-camp/
LOCATION:The Cage JSA\, 14 Alcap Ridge\, Cromwell\, CT\, 06416\, United States
CATEGORIES:Seminar
ATTACH;FMTTYPE=image/jpeg:https://progressivearnis.com/wp-content/uploads/2023/06/modernarnislegacycamp.jpg
END:VEVENT
END:VCALENDAR