BEGIN:VCALENDAR
VERSION:2.0
PRODID:-//Progressive Arnis - ECPv6.15.20//NONSGML v1.0//EN
CALSCALE:GREGORIAN
METHOD:PUBLISH
X-ORIGINAL-URL:https://progressivearnis.com
X-WR-CALDESC:Events for Progressive Arnis
REFRESH-INTERVAL;VALUE=DURATION:PT1H
X-Robots-Tag:noindex
X-PUBLISHED-TTL:PT1H
BEGIN:VTIMEZONE
TZID:America/New_York
BEGIN:DAYLIGHT
TZOFFSETFROM:-0500
TZOFFSETTO:-0400
TZNAME:EDT
DTSTART:20240310T070000
END:DAYLIGHT
BEGIN:STANDARD
TZOFFSETFROM:-0400
TZOFFSETTO:-0500
TZNAME:EST
DTSTART:20241103T060000
END:STANDARD
BEGIN:DAYLIGHT
TZOFFSETFROM:-0500
TZOFFSETTO:-0400
TZNAME:EDT
DTSTART:20250309T070000
END:DAYLIGHT
BEGIN:STANDARD
TZOFFSETFROM:-0400
TZOFFSETTO:-0500
TZNAME:EST
DTSTART:20251102T060000
END:STANDARD
BEGIN:DAYLIGHT
TZOFFSETFROM:-0500
TZOFFSETTO:-0400
TZNAME:EDT
DTSTART:20260308T070000
END:DAYLIGHT
BEGIN:STANDARD
TZOFFSETFROM:-0400
TZOFFSETTO:-0500
TZNAME:EST
DTSTART:20261101T060000
END:STANDARD
END:VTIMEZONE
BEGIN:VTIMEZONE
TZID:America/Denver
BEGIN:DAYLIGHT
TZOFFSETFROM:-0700
TZOFFSETTO:-0600
TZNAME:MDT
DTSTART:20240310T090000
END:DAYLIGHT
BEGIN:STANDARD
TZOFFSETFROM:-0600
TZOFFSETTO:-0700
TZNAME:MST
DTSTART:20241103T080000
END:STANDARD
BEGIN:DAYLIGHT
TZOFFSETFROM:-0700
TZOFFSETTO:-0600
TZNAME:MDT
DTSTART:20250309T090000
END:DAYLIGHT
BEGIN:STANDARD
TZOFFSETFROM:-0600
TZOFFSETTO:-0700
TZNAME:MST
DTSTART:20251102T080000
END:STANDARD
BEGIN:DAYLIGHT
TZOFFSETFROM:-0700
TZOFFSETTO:-0600
TZNAME:MDT
DTSTART:20260308T090000
END:DAYLIGHT
BEGIN:STANDARD
TZOFFSETFROM:-0600
TZOFFSETTO:-0700
TZNAME:MST
DTSTART:20261101T080000
END:STANDARD
END:VTIMEZONE
BEGIN:VEVENT
DTSTART;TZID=America/New_York:20251010T080000
DTEND;TZID=America/New_York:20251011T170000
DTSTAMP:20260425T104501
CREATED:20250105T235543Z
LAST-MODIFIED:20250105T235609Z
UID:10000033-1760083200-1760202000@progressivearnis.com
SUMMARY:Progressive Arnis Fall Camp EAST 2025
DESCRIPTION:The great Northeast represents Progressive Arnis strong! Chad will be back at Ben Aldridge’s IBBS school to run a Fall Camp for the Buffalonians. \n\n\n\n\n\n\n\n\n\n\n\n\nPlease enable JavaScript in your browser to complete this form.Name *FirstLastPhone Number *Email *Consent *I understand that this seminar involves movement\, physical contact and the possibility or risk of injury. I assume all responsibility for such occurrence of injury and agree to hold harmless and blameless Chad Bailey\, the venue (Ben Aldridge’s IBBS) and venue owner\, the instructors and the participants of the seminar. I acknowledge being informed and consent to participation.TestingI intend to test at this event.I plan to pay for this seminar via:Venmo (@Chad-Bailey7)PayPal (chad@shinwellness.com)Event Ticket (form below)Cash at the doorSubmit
URL:https://progressivearnis.com/event/progressive-arnis-fall-camp-east-2025/
LOCATION:Ben Aldridge IBBS\, 13118 Broadway\, Alden\, NY\, 14004\, United States
CATEGORIES:Seminar
ATTACH;FMTTYPE=image/png:https://progressivearnis.com/wp-content/uploads/2023/04/PAlogo-e1687197162727.png
ORGANIZER;CN="Chad Bailey":MAILTO:gurochad@progressivearnis.com
END:VEVENT
BEGIN:VEVENT
DTSTART;TZID=America/Denver:20251024T080000
DTEND;TZID=America/Denver:20251026T170000
DTSTAMP:20260425T104501
CREATED:20250105T235828Z
LAST-MODIFIED:20250920T225147Z
UID:10000034-1761292800-1761498000@progressivearnis.com
SUMMARY:Progressive Arnis Fall Camp WEST 2025
DESCRIPTION:Fall Camp will be back in Colorado to level up all of the new students and give us all that B12 shot that seminars have been known to bring.  We’ll shake off that red dust all over the mats at Hyland Hills Dojo\, acclaimed site of Rocky Mountain Thunder. \n\n\n\n\nPlease enable JavaScript in your browser to complete this form.Name *FirstLastPhone Number *Email *Consent *I understand that this seminar involves movement\, physical contact and the possibility or risk of injury. I assume all responsibility for such occurrence of injury and agree to hold harmless and blameless Chad Bailey\, the venue (Hyland Hills Judo) and venue owner\, the instructors and the participants of the seminar. I acknowledge being informed and consent to participation.TestingI intend to test at this event.I plan to pay for this seminar via:Venmo (@Chad-Bailey7)PayPal (chad@shinwellness.com)Event Ticket (form below)Cash at the doorSubmit
URL:https://progressivearnis.com/event/progressive-arnis-fall-camp-west-2025/
LOCATION:Hyland Hills Dojo\, 9165 Lowell Blvd.\, Westminster\, CO\, 80031\, United States
CATEGORIES:Seminar
ATTACH;FMTTYPE=image/png:https://progressivearnis.com/wp-content/uploads/2023/04/PAlogo-e1687197162727.png
ORGANIZER;CN="Chad Bailey":MAILTO:gurochad@progressivearnis.com
END:VEVENT
END:VCALENDAR