BEGIN:VCALENDAR
VERSION:2.0
PRODID:-//Progressive Arnis - ECPv6.15.20//NONSGML v1.0//EN
CALSCALE:GREGORIAN
METHOD:PUBLISH
X-WR-CALNAME:Progressive Arnis
X-ORIGINAL-URL:https://progressivearnis.com
X-WR-CALDESC:Events for Progressive Arnis
REFRESH-INTERVAL;VALUE=DURATION:PT1H
X-Robots-Tag:noindex
X-PUBLISHED-TTL:PT1H
BEGIN:VTIMEZONE
TZID:America/Denver
BEGIN:DAYLIGHT
TZOFFSETFROM:-0700
TZOFFSETTO:-0600
TZNAME:MDT
DTSTART:20240310T090000
END:DAYLIGHT
BEGIN:STANDARD
TZOFFSETFROM:-0600
TZOFFSETTO:-0700
TZNAME:MST
DTSTART:20241103T080000
END:STANDARD
BEGIN:DAYLIGHT
TZOFFSETFROM:-0700
TZOFFSETTO:-0600
TZNAME:MDT
DTSTART:20250309T090000
END:DAYLIGHT
BEGIN:STANDARD
TZOFFSETFROM:-0600
TZOFFSETTO:-0700
TZNAME:MST
DTSTART:20251102T080000
END:STANDARD
BEGIN:DAYLIGHT
TZOFFSETFROM:-0700
TZOFFSETTO:-0600
TZNAME:MDT
DTSTART:20260308T090000
END:DAYLIGHT
BEGIN:STANDARD
TZOFFSETFROM:-0600
TZOFFSETTO:-0700
TZNAME:MST
DTSTART:20261101T080000
END:STANDARD
END:VTIMEZONE
BEGIN:VEVENT
DTSTART;TZID=America/Denver:20250725T180000
DTEND;TZID=America/Denver:20250727T163000
DTSTAMP:20260425T112216
CREATED:20250105T233908Z
LAST-MODIFIED:20250620T234310Z
UID:10000031-1753466400-1753633800@progressivearnis.com
SUMMARY:Progressive Arnis Summer Camp 2025
DESCRIPTION:The plan is to return to Jeff Speakman’s Kenpo Karate 5.0 for what is going to be a very special camp! We have several Lakan tests in queue for this one\, as we did last time we trained in Santa Fe. Dates\, prices\, location and guest instructors are now confirmed.  \n\n\n\nReach out to Kyoshi Jason May for lodging logistics. He booked an AirBnb for Friday night until Monday morning. \n\n\n\n\n\n\nPlease enable JavaScript in your browser to complete this form.Name *FirstLastPhone Number *Email *Consent *I understand that this seminar of injury and agree to hold harmless and blameless Chad Bailey\, the venue (Jeff Speakman’s Kenpo Karate 5.0 Santa Fe) and venue owner\, the instructors and the participants of the seminar. I acknowledge being informed and consent to participation.TestingI intend to test at this event.I plan to pay for this seminar via:Venmo (@Chad-Bailey7)PayPal (chad@shinwellness.com)Event Ticket (form below)Cash at the doorSubmit
URL:https://progressivearnis.com/event/progressive-arnis-summer-camp-2025/
LOCATION:Jeff Speakman’s Kenpo Karate\, 5984 Airport Rd. 102\, Santa Fe\, NM\, 87507\, United States
CATEGORIES:Seminar
ATTACH;FMTTYPE=image/png:https://progressivearnis.com/wp-content/uploads/2023/04/PAlogo-e1687197162727.png
ORGANIZER;CN="Chad Bailey":MAILTO:gurochad@progressivearnis.com
END:VEVENT
END:VCALENDAR