BEGIN:VCALENDAR
VERSION:2.0
PRODID:-//Progressive Arnis - ECPv6.15.20//NONSGML v1.0//EN
CALSCALE:GREGORIAN
METHOD:PUBLISH
X-ORIGINAL-URL:https://progressivearnis.com
X-WR-CALDESC:Events for Progressive Arnis
REFRESH-INTERVAL;VALUE=DURATION:PT1H
X-Robots-Tag:noindex
X-PUBLISHED-TTL:PT1H
BEGIN:VTIMEZONE
TZID:America/Denver
BEGIN:DAYLIGHT
TZOFFSETFROM:-0700
TZOFFSETTO:-0600
TZNAME:MDT
DTSTART:20230312T090000
END:DAYLIGHT
BEGIN:STANDARD
TZOFFSETFROM:-0600
TZOFFSETTO:-0700
TZNAME:MST
DTSTART:20231105T080000
END:STANDARD
BEGIN:DAYLIGHT
TZOFFSETFROM:-0700
TZOFFSETTO:-0600
TZNAME:MDT
DTSTART:20240310T090000
END:DAYLIGHT
BEGIN:STANDARD
TZOFFSETFROM:-0600
TZOFFSETTO:-0700
TZNAME:MST
DTSTART:20241103T080000
END:STANDARD
BEGIN:DAYLIGHT
TZOFFSETFROM:-0700
TZOFFSETTO:-0600
TZNAME:MDT
DTSTART:20250309T090000
END:DAYLIGHT
BEGIN:STANDARD
TZOFFSETFROM:-0600
TZOFFSETTO:-0700
TZNAME:MST
DTSTART:20251102T080000
END:STANDARD
END:VTIMEZONE
BEGIN:VEVENT
DTSTART;TZID=America/Denver:20241213T080000
DTEND;TZID=America/Denver:20241215T170000
DTSTAMP:20260425T221912
CREATED:20240816T205204Z
LAST-MODIFIED:20240908T224659Z
UID:10000021-1734076800-1734282000@progressivearnis.com
SUMMARY:Progressive Arnis Instructor Camp 2024
DESCRIPTION:After two successful years of PA Instructor Camp\, the famed seminar returns with a focus on Cadena De Manos.  Attendees will be expected to prepare a series of classes for everyone to enjoy.  Training grounds will be available for camping and RV rental.  Details forthcoming as the event grows closer.
URL:https://progressivearnis.com/event/progressive-arnis-instructor-camp-2024/
LOCATION:Miami Everglades RV Resort\, 20675 SW 162nd Ave\, Miami\, FL\, 33187\, United States
CATEGORIES:Seminar
ATTACH;FMTTYPE=image/png:https://progressivearnis.com/wp-content/uploads/2023/04/PAlogo-e1687197162727.png
ORGANIZER;CN="Chad Bailey":MAILTO:gurochad@progressivearnis.com
END:VEVENT
END:VCALENDAR