BEGIN:VCALENDAR
VERSION:2.0
PRODID:-//Progressive Arnis - ECPv6.15.20//NONSGML v1.0//EN
CALSCALE:GREGORIAN
METHOD:PUBLISH
X-WR-CALNAME:Progressive Arnis
X-ORIGINAL-URL:https://progressivearnis.com
X-WR-CALDESC:Events for Progressive Arnis
REFRESH-INTERVAL;VALUE=DURATION:PT1H
X-Robots-Tag:noindex
X-PUBLISHED-TTL:PT1H
BEGIN:VTIMEZONE
TZID:America/Denver
BEGIN:DAYLIGHT
TZOFFSETFROM:-0700
TZOFFSETTO:-0600
TZNAME:MDT
DTSTART:20240310T090000
END:DAYLIGHT
BEGIN:STANDARD
TZOFFSETFROM:-0600
TZOFFSETTO:-0700
TZNAME:MST
DTSTART:20241103T080000
END:STANDARD
BEGIN:DAYLIGHT
TZOFFSETFROM:-0700
TZOFFSETTO:-0600
TZNAME:MDT
DTSTART:20250309T090000
END:DAYLIGHT
BEGIN:STANDARD
TZOFFSETFROM:-0600
TZOFFSETTO:-0700
TZNAME:MST
DTSTART:20251102T080000
END:STANDARD
BEGIN:DAYLIGHT
TZOFFSETFROM:-0700
TZOFFSETTO:-0600
TZNAME:MDT
DTSTART:20260308T090000
END:DAYLIGHT
BEGIN:STANDARD
TZOFFSETFROM:-0600
TZOFFSETTO:-0700
TZNAME:MST
DTSTART:20261101T080000
END:STANDARD
END:VTIMEZONE
BEGIN:VTIMEZONE
TZID:America/New_York
BEGIN:DAYLIGHT
TZOFFSETFROM:-0500
TZOFFSETTO:-0400
TZNAME:EDT
DTSTART:20240310T070000
END:DAYLIGHT
BEGIN:STANDARD
TZOFFSETFROM:-0400
TZOFFSETTO:-0500
TZNAME:EST
DTSTART:20241103T060000
END:STANDARD
BEGIN:DAYLIGHT
TZOFFSETFROM:-0500
TZOFFSETTO:-0400
TZNAME:EDT
DTSTART:20250309T070000
END:DAYLIGHT
BEGIN:STANDARD
TZOFFSETFROM:-0400
TZOFFSETTO:-0500
TZNAME:EST
DTSTART:20251102T060000
END:STANDARD
BEGIN:DAYLIGHT
TZOFFSETFROM:-0500
TZOFFSETTO:-0400
TZNAME:EDT
DTSTART:20260308T070000
END:DAYLIGHT
BEGIN:STANDARD
TZOFFSETFROM:-0400
TZOFFSETTO:-0500
TZNAME:EST
DTSTART:20261101T060000
END:STANDARD
BEGIN:DAYLIGHT
TZOFFSETFROM:-0500
TZOFFSETTO:-0400
TZNAME:EDT
DTSTART:20270314T070000
END:DAYLIGHT
BEGIN:STANDARD
TZOFFSETFROM:-0400
TZOFFSETTO:-0500
TZNAME:EST
DTSTART:20271107T060000
END:STANDARD
END:VTIMEZONE
BEGIN:VEVENT
DTSTART;TZID=America/Denver:20250314T080000
DTEND;TZID=America/Denver:20250316T170000
DTSTAMP:20260425T073815
CREATED:20250105T231627Z
LAST-MODIFIED:20250303T021644Z
UID:10000029-1741939200-1742144400@progressivearnis.com
SUMMARY:Progressive Arnis Spring Camp WEST 2025
DESCRIPTION:Spring Camp will be in Colorado to level up all of the new students and give us all that B12 shot that seminars have been known to bring. We’ll shake off that red dust all over the mats at Kaizen IBBA in Fort Collins\, CO.  The theme of this camp is going to be Laban Laros.  Bring your sticks and your mat shoes! \n\n\n\n\nPlease enable JavaScript in your browser to complete this form.Name *FirstLastPhone Number *Email *Consent *I understand that this seminar involves movement\, physical contact and the possibility or risk of injury. I assume all responsibility for such occurrence of injury and agree to hold harmless and blameless Chad Bailey\, the venue (Kaizen IBBA) and venue owner\, the instructors and the participants of the seminar. I acknowledge being informed and consent to participation.TestingI intend to test at this event.I plan to pay for this seminar via:Venmo (@Chad-Bailey7)PayPal (chad@shinwellness.com)Event Ticket (form below)Cash at the doorSubmit
URL:https://progressivearnis.com/event/progressive-arnis-spring-camp-west-2025/
LOCATION:Kaizen IBBA\, 1833 E. Harmony Road\, Unit 5\, Fort Collins\, CO\, 80528\, United States
CATEGORIES:Seminar
ATTACH;FMTTYPE=image/png:https://progressivearnis.com/wp-content/uploads/2023/04/PAlogo-e1687197162727.png
ORGANIZER;CN="Chad Bailey":MAILTO:gurochad@progressivearnis.com
END:VEVENT
BEGIN:VEVENT
DTSTART;TZID=America/New_York:20250328T080000
DTEND;TZID=America/New_York:20250330T170000
DTSTAMP:20260425T073815
CREATED:20250105T232242Z
LAST-MODIFIED:20250105T232243Z
UID:10000030-1743148800-1743354000@progressivearnis.com
SUMMARY:Progressive Arnis Spring Camp EAST 2025
DESCRIPTION:The great Northeast represents Progressive Arnis strong! Chad will be back at Ben Aldridge’s IBBS school to run a Spring Camp for the Buffalonians. \n\n\n\n\n\n\n\n\n\n\n\n\nPlease enable JavaScript in your browser to complete this form.Name *FirstLastPhone Number *Email *Consent *I understand that this seminar involves movement\, physical contact and the possibility or risk of injury. I assume all responsibility for such occurrence of injury and agree to hold harmless and blameless Chad Bailey\, the venue (Ben Aldridge’s IBBS) and venue owner\, the instructors and the participants of the seminar. I acknowledge being informed and consent to participation.TestingI intend to test at this event.I plan to pay for this seminar via:Venmo (@Chad-Bailey7)PayPal (chad@shinwellness.com)Event Ticket (form below)Cash at the doorSubmit
URL:https://progressivearnis.com/event/progressive-arnis-spring-camp-east-2025/
LOCATION:Ben Aldridge IBBS\, 13118 Broadway\, Alden\, NY\, 14004\, United States
CATEGORIES:Seminar
ATTACH;FMTTYPE=image/png:https://progressivearnis.com/wp-content/uploads/2023/04/PAlogo-e1687197162727.png
ORGANIZER;CN="Chad Bailey":MAILTO:gurochad@progressivearnis.com
END:VEVENT
BEGIN:VEVENT
DTSTART;TZID=America/Denver:20250606T160000
DTEND;TZID=America/Denver:20250608T183000
DTSTAMP:20260425T073815
CREATED:20240816T210316Z
LAST-MODIFIED:20240908T224833Z
UID:10000022-1749225600-1749407400@progressivearnis.com
SUMMARY:Rocky Mountain Thunder 2025
DESCRIPTION:Another great lineup of the greatest local and not-so-local martial arts instructors and practitioners bring us kung-fu\, karate\, wing chun\, tactical cane\, kempo\, juijitsu\, arnis and silat.  This will be the biggest and baddest one yet. Don’t miss it!
URL:https://progressivearnis.com/event/rocky-mountain-thunder-2025/
LOCATION:Hyland Hills Dojo\, 9165 Lowell Blvd.\, Westminster\, CO\, 80031\, United States
CATEGORIES:Seminar
ATTACH;FMTTYPE=image/png:https://progressivearnis.com/wp-content/uploads/2024/01/cropped-RMT-Logo2-2.png
ORGANIZER;CN="Hanshi Ron Carlson":MAILTO:kempojitsu36@gmail.com
END:VEVENT
BEGIN:VEVENT
DTSTART;TZID=America/Denver:20250725T180000
DTEND;TZID=America/Denver:20250727T163000
DTSTAMP:20260425T073815
CREATED:20250105T233908Z
LAST-MODIFIED:20250620T234310Z
UID:10000031-1753466400-1753633800@progressivearnis.com
SUMMARY:Progressive Arnis Summer Camp 2025
DESCRIPTION:The plan is to return to Jeff Speakman’s Kenpo Karate 5.0 for what is going to be a very special camp! We have several Lakan tests in queue for this one\, as we did last time we trained in Santa Fe. Dates\, prices\, location and guest instructors are now confirmed.  \n\n\n\nReach out to Kyoshi Jason May for lodging logistics. He booked an AirBnb for Friday night until Monday morning. \n\n\n\n\n\n\nPlease enable JavaScript in your browser to complete this form.Name *FirstLastPhone Number *Email *Consent *I understand that this seminar of injury and agree to hold harmless and blameless Chad Bailey\, the venue (Jeff Speakman’s Kenpo Karate 5.0 Santa Fe) and venue owner\, the instructors and the participants of the seminar. I acknowledge being informed and consent to participation.TestingI intend to test at this event.I plan to pay for this seminar via:Venmo (@Chad-Bailey7)PayPal (chad@shinwellness.com)Event Ticket (form below)Cash at the doorSubmit
URL:https://progressivearnis.com/event/progressive-arnis-summer-camp-2025/
LOCATION:Jeff Speakman’s Kenpo Karate\, 5984 Airport Rd. 102\, Santa Fe\, NM\, 87507\, United States
CATEGORIES:Seminar
ATTACH;FMTTYPE=image/png:https://progressivearnis.com/wp-content/uploads/2023/04/PAlogo-e1687197162727.png
ORGANIZER;CN="Chad Bailey":MAILTO:gurochad@progressivearnis.com
END:VEVENT
BEGIN:VEVENT
DTSTART;TZID=America/New_York:20250801T080000
DTEND;TZID=America/New_York:20250803T170000
DTSTAMP:20260425T073815
CREATED:20250105T234400Z
LAST-MODIFIED:20250106T000344Z
UID:10000032-1754035200-1754240400@progressivearnis.com
SUMMARY:I.B.B.S. Buffalo Summer Camp 2025
DESCRIPTION:Join us for Karate\, Iaido\, Chicken Wings and Juijitsu in Alden\, NY for Ben Aldridge’s International Black Belt Studio Summer Camp seminar!
URL:https://progressivearnis.com/event/i-b-b-s-buffalo-summer-camp-2025/
LOCATION:Ben Aldridge IBBS\, 13118 Broadway\, Alden\, NY\, 14004\, United States
CATEGORIES:Seminar
ATTACH;FMTTYPE=image/jpeg:https://progressivearnis.com/wp-content/uploads/2023/10/IBBS_School.jpg
ORGANIZER;CN="Ben Aldridge":MAILTO:ibbsalden19@gmail.com
END:VEVENT
BEGIN:VEVENT
DTSTART;TZID=America/New_York:20250926T000000
DTEND;TZID=America/New_York:20250928T235959
DTSTAMP:20260425T073815
CREATED:20241030T145013Z
LAST-MODIFIED:20250106T000406Z
UID:10000027-1758844800-1759103999@progressivearnis.com
SUMMARY:Modern Arnis World Legacy Camp 2025
DESCRIPTION:GM Brian Zawilinski is hosting another Modern Arnis World Legacy Camp in 2025! This has come to be the second of what will be a bi-annual event. Select instructors will be invited to share their practice of Modern Arnis as they have transformed the late/great Remy Presas’s lessons into their own art. Modern Arnis is the foundation for Progressive Arnis\, as Guro Bailey was among Professor Presas’s students. Don’t miss this incredible opportunity to touch hands with some of the greatest and most influential Arnis practitioners in the world! \n\n\n\nRegistration for this event opens May 26\, 2025. Reserve your room at the Hotel Venue before the group rate is no longer available! \n\n\n\n\n\n\n\n\n\n\n\n\n\n\n\n\n\nFull Camp320.00Any 1-Day120.00Single Session70.00Dinner on Saturday20.00Video Download (Pre-Camp)40.00Video Download (During Camp)60.00Video Download (After Camp)80.00Hotel Group Rate (Per Night)149.00
URL:https://progressivearnis.com/event/modern-arnis-world-legacy-camp-2025/
LOCATION:Courtyard Marriott Hartford/Cromwell\, 4 Sebethe Drive\, Cromwell\, Connecticut\, 06416\, United States
CATEGORIES:Seminar
ATTACH;FMTTYPE=image/jpeg:https://progressivearnis.com/wp-content/uploads/2023/06/modernarnislegacycamp.jpg
END:VEVENT
BEGIN:VEVENT
DTSTART;TZID=America/New_York:20251010T080000
DTEND;TZID=America/New_York:20251011T170000
DTSTAMP:20260425T073815
CREATED:20250105T235543Z
LAST-MODIFIED:20250105T235609Z
UID:10000033-1760083200-1760202000@progressivearnis.com
SUMMARY:Progressive Arnis Fall Camp EAST 2025
DESCRIPTION:The great Northeast represents Progressive Arnis strong! Chad will be back at Ben Aldridge’s IBBS school to run a Fall Camp for the Buffalonians. \n\n\n\n\n\n\n\n\n\n\n\n\nPlease enable JavaScript in your browser to complete this form.Name *FirstLastPhone Number *Email *Consent *I understand that this seminar involves movement\, physical contact and the possibility or risk of injury. I assume all responsibility for such occurrence of injury and agree to hold harmless and blameless Chad Bailey\, the venue (Ben Aldridge’s IBBS) and venue owner\, the instructors and the participants of the seminar. I acknowledge being informed and consent to participation.TestingI intend to test at this event.I plan to pay for this seminar via:Venmo (@Chad-Bailey7)PayPal (chad@shinwellness.com)Event Ticket (form below)Cash at the doorSubmit
URL:https://progressivearnis.com/event/progressive-arnis-fall-camp-east-2025/
LOCATION:Ben Aldridge IBBS\, 13118 Broadway\, Alden\, NY\, 14004\, United States
CATEGORIES:Seminar
ATTACH;FMTTYPE=image/png:https://progressivearnis.com/wp-content/uploads/2023/04/PAlogo-e1687197162727.png
ORGANIZER;CN="Chad Bailey":MAILTO:gurochad@progressivearnis.com
END:VEVENT
BEGIN:VEVENT
DTSTART;TZID=America/Denver:20251024T080000
DTEND;TZID=America/Denver:20251026T170000
DTSTAMP:20260425T073815
CREATED:20250105T235828Z
LAST-MODIFIED:20250920T225147Z
UID:10000034-1761292800-1761498000@progressivearnis.com
SUMMARY:Progressive Arnis Fall Camp WEST 2025
DESCRIPTION:Fall Camp will be back in Colorado to level up all of the new students and give us all that B12 shot that seminars have been known to bring.  We’ll shake off that red dust all over the mats at Hyland Hills Dojo\, acclaimed site of Rocky Mountain Thunder. \n\n\n\n\nPlease enable JavaScript in your browser to complete this form.Name *FirstLastPhone Number *Email *Consent *I understand that this seminar involves movement\, physical contact and the possibility or risk of injury. I assume all responsibility for such occurrence of injury and agree to hold harmless and blameless Chad Bailey\, the venue (Hyland Hills Judo) and venue owner\, the instructors and the participants of the seminar. I acknowledge being informed and consent to participation.TestingI intend to test at this event.I plan to pay for this seminar via:Venmo (@Chad-Bailey7)PayPal (chad@shinwellness.com)Event Ticket (form below)Cash at the doorSubmit
URL:https://progressivearnis.com/event/progressive-arnis-fall-camp-west-2025/
LOCATION:Hyland Hills Dojo\, 9165 Lowell Blvd.\, Westminster\, CO\, 80031\, United States
CATEGORIES:Seminar
ATTACH;FMTTYPE=image/png:https://progressivearnis.com/wp-content/uploads/2023/04/PAlogo-e1687197162727.png
ORGANIZER;CN="Chad Bailey":MAILTO:gurochad@progressivearnis.com
END:VEVENT
BEGIN:VEVENT
DTSTART;TZID=America/New_York:20251122T090000
DTEND;TZID=America/New_York:20251123T150000
DTSTAMP:20260425T073815
CREATED:20250106T000048Z
LAST-MODIFIED:20251026T040657Z
UID:10000035-1763802000-1763910000@progressivearnis.com
SUMMARY:Cacoy Canete Doce Pares and Counterpoint Tactical System 2025
DESCRIPTION:Three-day seminar of CDP and CTS w/ GM Zak Whitson. There will be opportunity for belt testing in CDP\, and hopefully some sweet pistol-whipping tactics.  For those of us that can’t take a picture of the QR Code\, register and pay for the seminar here:   \n\n\n\nhttps://sparkpages.io/cart/2/?i=_fM0b&c=&ocu= \n\n\n\nZach Whitson seminar poster\n\n\n\n\n\nPLEASE NOTE THERE IS A SEPARATE LOCATION FOR THE SATURDAY MORNING SESSION!!!! \n\n\n\nWe are looking forward to two amazing days of training! Wear comfortable training clothes. Bring two training sticks and training knife to the CTS and CCDP seminars (we will not have any available for purchase at the morning session Saturday\, but if you respond to this email\, we can order those for you ahead of time!). \n\n\n\nThere will be an hour break for lunch on Saturday\, so you’ll have time to grab something to eat on your way from the Foothills Activity Center to Kaizen IBBA (transportation NOT provided). We do recommend you bring snacks and a water bottle. \n\n\n\nSaturday\, 11/22 \n\n\n\n10am-11:30am Counterpoint Tactical Systems at Foothills Activity Center 241 E Foothills Pkwy\, Fort Collins\, CO (located in the east entrance of the Foothills Mall across from the parking garage)  \n\n\n\n12:30-2:30pm Kenpo Counterpoint at Kaizen IBBA\, 1833 E Harmony Rd Unit 5\, Fort Collins\, CO  \n\n\n\n3pm-5:30pm Baguazhang and Tajiquan at Kaizen IBBA  \n\n\n\nSunday\, 11/23 at Kaizen IBBA \n\n\n\n9am-11:30pm Cacoy Doce Pares Training \n\n\n\n1pm-3:00pm Cacoy Doce Pares TESTING (ONLY for registered students) \n\n\n\nIf you have any further questions or need assistance with any directions\, please contact Shelly Jauch at 970-290-3307 or email mrs.jauch.ibba@gmail.com \n\n\n\nWe’re excited to have you!
URL:https://progressivearnis.com/event/cacoy-canete-doce-pares-and-counterpoint-tactical-system-2025/
LOCATION:Kaizen IBBA\, 1833 E. Harmony Road\, Unit 5\, Fort Collins\, CO\, 80528\, United States
CATEGORIES:Seminar
ATTACH;FMTTYPE=image/jpeg:https://progressivearnis.com/wp-content/uploads/2024/02/CDPlogo.jpeg
ORGANIZER;CN="Zak Whitson":MAILTO:integratedmaboca@gmail.com
END:VEVENT
BEGIN:VEVENT
DTSTART;TZID=America/Denver:20251212T080000
DTEND;TZID=America/Denver:20251214T170000
DTSTAMP:20260425T073815
CREATED:20250106T001351Z
LAST-MODIFIED:20251116T233052Z
UID:10000036-1765526400-1765731600@progressivearnis.com
SUMMARY:Progressive Arnis Instructor Camp 2025
DESCRIPTION:Progressive Arnis Instructor Camp 2025/ GURO Camp!!! \n\n\n\nLakan Jason May is testing for Guro- Full Instructor in Progressive Arnis. He will be presenting two Guro classes and his Guro thesis. \n\n\n\nAmazing Guest Instructors:Bruce ChiuBram FrankBrian ZawilinskiGeorge MorinRon Carlson \n\n\n\nCamp Fees*:$300 pre-registration before Nov. 14$325 After/ At the Door*Family plan: 1st full/ 2nd half/ 3rd 1/4 \n\n\n\nAt Instructor Camp 2025\, each instructor will have two teaching portions: \n\n\n\n1) One portion of the warm up on Friday.  One skill from yellow to purple which Guro Bailey will pick that day.  (1 minute) \n\n\n\n2) Teach one technique/ skill/ drill/ move of choice (5 minutes) \n\n\n\n\n\n\n\n\n\n\n\n\nPlease enable JavaScript in your browser to complete this form.Name *FirstLastPhone Number *Email *Consent *I understand that this seminar involves movement\, physical contact and the possibility or risk of injury. I assume all responsibility for such occurrence of injury and agree to hold harmless and blameless Chad Bailey\, the venue (Crandon Park) and venue owner (Miami-Dade County)\, the instructors and the participants of the seminar. I acknowledge being informed and consent to participation.TestingI intend to test at this event.I plan to pay for this seminar via:Venmo (@Chad-Bailey7)PayPal (chad@shinwellness.com)Event Ticket (form below)Cash at the “door”Submit
URL:https://progressivearnis.com/event/progressive-arnis-instructor-camp-2025/
LOCATION:Crandon Park Beach\, 6747 Crandon Boulevard\, Key Biscayne\, Florida\, 33149\, United States
CATEGORIES:Seminar
ATTACH;FMTTYPE=image/png:https://progressivearnis.com/wp-content/uploads/2023/04/PAlogo-e1687197162727.png
ORGANIZER;CN="Jason May":MAILTO:nanshokj@yahoo.com
END:VEVENT
BEGIN:VEVENT
DTSTART;TZID=America/New_York:20260206T160000
DTEND;TZID=America/New_York:20260208T170000
DTSTAMP:20260425T073815
CREATED:20260115T013833Z
LAST-MODIFIED:20260115T015740Z
UID:10000037-1770393600-1770570000@progressivearnis.com
SUMMARY:Progressive Arnis Winter Camp 2026
DESCRIPTION:The 2026 Winter Camp will be held at the Peace River Campground. \n\n\n\n \n\n\n\nCamp Fee:$300  (pre-registered by Jan. 23)$325  (after Jan. 23/ at the door) \n\n\n\n$125 (day rate) \n\n\n\n\n\nTent camping is included in camp fee.RV’s can be rented thru RVShare.com!Also hotels in Arcadia. \n\n\nPlease enable JavaScript in your browser to complete this form.Name *FirstLastPhone Number *Email *Consent *I understand that this seminar involves movement\, physical contact and the possibility or risk of injury. I assume all responsibility for such occurrence of injury and agree to hold harmless and blameless Chad Bailey\, the venue (Peace River Campground) and venue owner\, the instructors and the participants of the seminar. I acknowledge being informed and consent to participation.TestingI intend to test at this event.I plan to pay for this seminar via:Venmo (@Chad-Bailey7)PayPal (chad@shinwellness.com)Event Ticket (form below)Cash at the doorSubmit  \n\n\nWays to pay: \n\n\n\n\nVenmo @Chad-Bailey7\n\n\n\nPayPal chad@shinwellness.com\n\n\n\nOnline Ticket Sales at the bottom of this page\n\n\n\nCash at the event (will miss pre-registration timeline)
URL:https://progressivearnis.com/event/progressive-arnis-winter-camp-2026/
LOCATION:Peace River Campground\, 2998 FL-70\, Arcadia\, FL\, 34266\, United States
CATEGORIES:Seminar
ATTACH;FMTTYPE=image/jpeg:https://progressivearnis.com/wp-content/uploads/2023/11/peacerivercampground.jpg
ORGANIZER;CN="Chad Bailey":MAILTO:gurochad@progressivearnis.com
END:VEVENT
END:VCALENDAR