BEGIN:VCALENDAR
VERSION:2.0
PRODID:-//Progressive Arnis - ECPv6.15.20//NONSGML v1.0//EN
CALSCALE:GREGORIAN
METHOD:PUBLISH
X-WR-CALNAME:Progressive Arnis
X-ORIGINAL-URL:https://progressivearnis.com
X-WR-CALDESC:Events for Progressive Arnis
REFRESH-INTERVAL;VALUE=DURATION:PT1H
X-Robots-Tag:noindex
X-PUBLISHED-TTL:PT1H
BEGIN:VTIMEZONE
TZID:America/Denver
BEGIN:DAYLIGHT
TZOFFSETFROM:-0700
TZOFFSETTO:-0600
TZNAME:MDT
DTSTART:20220313T090000
END:DAYLIGHT
BEGIN:STANDARD
TZOFFSETFROM:-0600
TZOFFSETTO:-0700
TZNAME:MST
DTSTART:20221106T080000
END:STANDARD
BEGIN:DAYLIGHT
TZOFFSETFROM:-0700
TZOFFSETTO:-0600
TZNAME:MDT
DTSTART:20230312T090000
END:DAYLIGHT
BEGIN:STANDARD
TZOFFSETFROM:-0600
TZOFFSETTO:-0700
TZNAME:MST
DTSTART:20231105T080000
END:STANDARD
BEGIN:DAYLIGHT
TZOFFSETFROM:-0700
TZOFFSETTO:-0600
TZNAME:MDT
DTSTART:20240310T090000
END:DAYLIGHT
BEGIN:STANDARD
TZOFFSETFROM:-0600
TZOFFSETTO:-0700
TZNAME:MST
DTSTART:20241103T080000
END:STANDARD
BEGIN:DAYLIGHT
TZOFFSETFROM:-0700
TZOFFSETTO:-0600
TZNAME:MDT
DTSTART:20250309T090000
END:DAYLIGHT
BEGIN:STANDARD
TZOFFSETFROM:-0600
TZOFFSETTO:-0700
TZNAME:MST
DTSTART:20251102T080000
END:STANDARD
END:VTIMEZONE
BEGIN:VTIMEZONE
TZID:America/New_York
BEGIN:DAYLIGHT
TZOFFSETFROM:-0500
TZOFFSETTO:-0400
TZNAME:EDT
DTSTART:20220313T070000
END:DAYLIGHT
BEGIN:STANDARD
TZOFFSETFROM:-0400
TZOFFSETTO:-0500
TZNAME:EST
DTSTART:20221106T060000
END:STANDARD
BEGIN:DAYLIGHT
TZOFFSETFROM:-0500
TZOFFSETTO:-0400
TZNAME:EDT
DTSTART:20230312T070000
END:DAYLIGHT
BEGIN:STANDARD
TZOFFSETFROM:-0400
TZOFFSETTO:-0500
TZNAME:EST
DTSTART:20231105T060000
END:STANDARD
BEGIN:DAYLIGHT
TZOFFSETFROM:-0500
TZOFFSETTO:-0400
TZNAME:EDT
DTSTART:20240310T070000
END:DAYLIGHT
BEGIN:STANDARD
TZOFFSETFROM:-0400
TZOFFSETTO:-0500
TZNAME:EST
DTSTART:20241103T060000
END:STANDARD
END:VTIMEZONE
BEGIN:VEVENT
DTSTART;VALUE=DATE:20240119
DTEND;VALUE=DATE:20240122
DTSTAMP:20260425T051512
CREATED:20231109T000330Z
LAST-MODIFIED:20240908T220329Z
UID:10000012-1705622400-1705881599@progressivearnis.com
SUMMARY:Buffalo Iaido Winter Seminar
DESCRIPTION:Kyoshi Jason May will be hosting a Seminar at Ben Aldridge’s IBBS January 19-21st and will cover several arts including: \n\nProgressive Arnis\nMuso Jikiden Eishen-Ryu Seiho Ha Iaido\nNan Sho Kempo Juijitsu\n\nKyoshi’s Nan Sho system will bridge some of the skills of Ed Parker’s American Kempo system to traditional Japanese Kempo Juijitsu.  It will highlight similarities in movements\, and take concepts into alternate applications.
URL:https://progressivearnis.com/event/buffalo-iaido-winter-seminar/
LOCATION:Ben Aldridge IBBS\, 13118 Broadway\, Alden\, NY\, 14004\, United States
CATEGORIES:Seminar
ATTACH;FMTTYPE=image/jpeg:https://progressivearnis.com/wp-content/uploads/2023/10/IBBS_School.jpg
ORGANIZER;CN="Ben Aldridge":MAILTO:ibbsalden19@gmail.com
END:VEVENT
BEGIN:VEVENT
DTSTART;TZID=America/Denver:20231208T000000
DTEND;TZID=America/Denver:20231210T235959
DTSTAMP:20260425T051512
CREATED:20230611T202617Z
LAST-MODIFIED:20240908T225640Z
UID:10000007-1701993600-1702252799@progressivearnis.com
SUMMARY:Progressive Arnis Instructor Camp 2023
DESCRIPTION:The second running of this Camp focused on building skills as an instructor.  Chad will invite PA instructors and affiliate instructors to teach classes and skill building exercises\, so attendees can train while focusing on their leadership and instruction skills. \nIt will take place at Miami Everglades RV Resort in Miami\, Florida.  Recommendation is to fly into Fort Lauderdale (FLL) if coming from out of town. \n  \nAll attendees will be asked to prepare a 10-minute teaching topic. \nInstructor Camp 2023: Registration and Informed Consent WaiverPlease enable JavaScript in your browser to complete this form.Name *FirstLastPhone Number *Email *What are you planning to teach in your 10-minute session? *Consent *I understand that this seminar involves movement\, physical contact and the possibility or risk of injury. I assume all responsibility for such occurrence of injury and agree to hold harmless and blameless Chad Bailey\, the venue and venue owner\, the instructors and the participants of the seminar. I acknowledge being informed and consent to participation.Submit
URL:https://progressivearnis.com/event/progressive-arnis-instructor-camp/
LOCATION:Miami Everglades RV Resort\, 20675 SW 162nd Ave\, Miami\, FL\, 33187\, United States
CATEGORIES:Seminar
ATTACH;FMTTYPE=image/jpeg:https://progressivearnis.com/wp-content/uploads/2023/06/miamievergladesrvresort.jpg
ORGANIZER;CN="Chad Bailey":MAILTO:gurochad@progressivearnis.com
END:VEVENT
BEGIN:VEVENT
DTSTART;VALUE=DATE:20231202
DTEND;VALUE=DATE:20231204
DTSTAMP:20260425T051512
CREATED:20230616T153054Z
LAST-MODIFIED:20240908T220329Z
UID:10000008-1701475200-1701647999@progressivearnis.com
SUMMARY:W. Hock Hocheim Force Necessary
DESCRIPTION:Denver\, CO instance in the events calendar\, but many other dates and locations offered. \nHock is a student of Modern Arnis\, under both Ernesto and Remy Presas.  He teaches practical combatives to apply to street fights and military applications.  Hock is a former law enforcement officer and military trainer\, who brings a variety of different systems to his\, demonstrating the use of force when “Force Necessary”. \n  \n  \n 
URL:https://progressivearnis.com/event/w-hock-hocheim-force-necessary/
LOCATION:CO
CATEGORIES:Seminar
ATTACH;FMTTYPE=image/jpeg:https://progressivearnis.com/wp-content/uploads/2023/06/hock-seminars-posted-in-June-2023.jpg
END:VEVENT
BEGIN:VEVENT
DTSTART;TZID=America/Denver:20231103T000000
DTEND;TZID=America/Denver:20231105T235959
DTSTAMP:20260425T051512
CREATED:20230611T201535Z
LAST-MODIFIED:20240908T224335Z
UID:10000006-1698969600-1699228799@progressivearnis.com
SUMMARY:Progressive Arnis Fall Camp 2023
DESCRIPTION:Progressive Arnis Fall Camp will take place in Berthoud\, Colorado this year. \nPay before October 28th for the pre-registration price of $250.  Event registration is $300 after that date or at the door. \nCash (door)\, Credit (below)\, PayPal (chad@shinwellness.com)\, or Venmo (@chad-bailey7) accepted. \n  \nPA Fall Camp 2023: Registration and Informed Consent WaiverPlease enable JavaScript in your browser to complete this form.Name *FirstLastPhone Number *Email *Consent *I understand that this seminar involves movement\, physical contact and the possibility or risk of injury. I assume all responsibility for such occurrence of injury and agree to hold harmless and blameless Chad Bailey\, the venue and venue owner\, the instructors and the participants of the seminar. I acknowledge being informed and consent to participation.Submit
URL:https://progressivearnis.com/event/progressive-arnis-fall-camp/
LOCATION:Berthoud Fight Club\, 730 6th Street\, Berthoud\, CO\, 80513\, United States
CATEGORIES:Seminar
ATTACH;FMTTYPE=image/png:https://progressivearnis.com/wp-content/uploads/2023/04/PAlogo-e1687197162727.png
ORGANIZER;CN="Chad Bailey":MAILTO:gurochad@progressivearnis.com
END:VEVENT
BEGIN:VEVENT
DTSTART;TZID=America/Denver:20231008T090000
DTEND;TZID=America/Denver:20231008T160000
DTSTAMP:20260425T051512
CREATED:20231007T203623Z
LAST-MODIFIED:20240908T225739Z
UID:10000010-1696755600-1696780800@progressivearnis.com
SUMMARY:Progressive Arnis Colorado 1-Day Intensive 2023
DESCRIPTION:Chad will be working all of the new underlined items in the 2023 curriculum.  These are the line items that are currently not tested for belt rank\, but may be in the future.  Chad may also pre-test prior to the Nov 3-5 Fall Camp. \n  \nPay for your ticket here via credit card\, through Venmo (@Chad-Bailey7) or PayPal (chad@shinwellness.com) \n1-Day Colorado Intensive 2023: Registration and Informed Consent WaiverPlease enable JavaScript in your browser to complete this form.Name *FirstLastPhone Number *Email *Consent *I understand that this seminar involves movement\, physical contact and the possibility or risk of injury. I assume all responsibility for such occurrence of injury and agree to hold harmless and blameless Chad Bailey\, the venue and venue owner\, the instructors and the participants of the seminar. I acknowledge being informed and consent to participation.Submit   \n 
URL:https://progressivearnis.com/event/progressive-arnis-colorado-1-day-intensive/
LOCATION:Berthoud Fight Club\, 730 6th Street\, Berthoud\, CO\, 80513\, United States
CATEGORIES:Seminar
ATTACH;FMTTYPE=image/png:https://progressivearnis.com/wp-content/uploads/2023/04/PAlogo-e1687197162727.png
ORGANIZER;CN="Chad Bailey":MAILTO:gurochad@progressivearnis.com
END:VEVENT
BEGIN:VEVENT
DTSTART;VALUE=DATE:20230929
DTEND;VALUE=DATE:20231002
DTSTAMP:20260425T051512
CREATED:20230611T201057Z
LAST-MODIFIED:20240908T220329Z
UID:10000005-1695945600-1696204799@progressivearnis.com
SUMMARY:Modern Arnis World Legacy Camp
DESCRIPTION:Senior Students of the late/great Remy Presas will be teaching their personal evolution of Modern Arnis. \nCromwell\, CT \n\n3-Days / $300 \n\n\n\n\n\n\nLEGACY CAMP INSTRUCTOR SCHEDULE:\n\n\nFriday 9/29/2023:\n\n\n8:45AM Camp opens\n9AM GM Bruce Chiu\n10AM GM Bram Frank\n11AM GM Dieter Knuttel\n12 noon Lunch\n1PM Professor Dan Anderson\n2PM Tuhon Ray Dionaldo\n3PM Master of Tapi Tapi Roland Rivera\n4PM Shinshii Janet Aalfs\n5PM Dinner\n7PM GMZ\n8PM Guest Instructor\n\n\n\nSaturday\, 9/30/2023:\n\n\n9AM Tuhon Ray\n10AM Shinshii Janet\n11AM GM Bruce\n12 noon GM Bram\n1PM Lunch\n2PM MoTT Roland\n3PM GM Dieter\n4PM Guest Instructor\n5PM Prof. Dan\n6PM Dinner\n7PM Q n A w/ Instructors !!!\n\n\n\nSunday 10/1/2023:\n\n\n9AM MoTT Roland\n10AM Prof. Dan\n11AM GM Dieter\n12 noon Tuhon Ray\n1PM Lunch\n2PM GMZ\n3PM GM Bram\n4PM GM Bruce\n5PM Camp ends\n\n\n(Schedule subject to change as needed). Each session will end with a 5 min water break. See you at LEGACY CAMP!
URL:https://progressivearnis.com/event/modern-arnis-legacy-camp/
LOCATION:The Cage JSA\, 14 Alcap Ridge\, Cromwell\, CT\, 06416\, United States
CATEGORIES:Seminar
ATTACH;FMTTYPE=image/jpeg:https://progressivearnis.com/wp-content/uploads/2023/06/modernarnislegacycamp.jpg
END:VEVENT
BEGIN:VEVENT
DTSTART;TZID=America/Denver:20230804T000000
DTEND;TZID=America/Denver:20230806T235959
DTSTAMP:20260425T051512
CREATED:20230611T200413Z
LAST-MODIFIED:20240908T233143Z
UID:10000004-1691107200-1691366399@progressivearnis.com
SUMMARY:Progressive Arnis Summer Camp 2023
DESCRIPTION:PA Fall Camp 2023: Registration and Informed Consent WaiverPlease enable JavaScript in your browser to complete this form.Name *FirstLastPhone Number *Email *Consent *I understand that this seminar involves movement\, physical contact and the possibility or risk of injury. I assume all responsibility for such occurrence of injury and agree to hold harmless and blameless Chad Bailey\, the venue and venue owner\, the instructors and the participants of the seminar. I acknowledge being informed and consent to participation.Submit
URL:https://progressivearnis.com/event/progressive-arnis-summer-camp/
LOCATION:Jeff Speakman’s Kenpo Karate\, 5984 Airport Rd. 102\, Santa Fe\, NM\, 87507\, United States
CATEGORIES:Seminar
ATTACH;FMTTYPE=image/png:https://progressivearnis.com/wp-content/uploads/2023/04/PAlogo-e1687197162727.png
ORGANIZER;CN="Chad Bailey":MAILTO:gurochad@progressivearnis.com
END:VEVENT
BEGIN:VEVENT
DTSTART;VALUE=DATE:20230719
DTEND;VALUE=DATE:20230724
DTSTAMP:20260425T051512
CREATED:20230611T195525Z
LAST-MODIFIED:20240908T220330Z
UID:10000003-1689724800-1690156799@progressivearnis.com
SUMMARY:Bram's Birthday Bash 2023
DESCRIPTION:Grandmaster Bram Frank will turn another year wiser on July 19\, 2023.  In celebration of his 70th Birthday\, Artisan Martial Arts is hosting GM Frank for what is now an annual Training Camp with a Birthday BBQ celebration on Saturday. We are offering a 5 Day Experience and the normal 3 Day Camp. \nGM Frank is the founder and Director of CSSD/SC.  He is also a designer and holds patents on some of the most revolutionary knives made today. Learn Bram Frank’s revolutionary Modular System – a comprehensive method to master Blade Concepts and applications. \n\nWednesday\, July 19th – All Day – 5 Day Experience\, Day 1\nThursday\, July 20th – All Day – 5 Day Experience\, Day 2\nFriday\, July 21st – 10:00p to 5:00p\nFriday\, July 21st – Special Naihanchi and the CRMIPT Session 7:00p to 9:00p\nSaturday\, July 22nd – 10:00a to 5:00p (BBQ Birthday Celebration)\nSunday\, July 23rd – 10:00a to 4:00p\n\nThe 2023 camp will be held at Artisan Martial Arts (formerly Handwerker Martial Arts)\, in Vancouver\, Washington USA. \nThe first 2 days of the 5 Day Experience will be held at remote locations. The main 3 day camp will be held\, based on weather conditions\, at the actual Artisan Martial Arts school\, or where it has been held the last few years in Sensei Mish’s back yard\, which has been refered to at the Artisan Martial Arts Annex. \n \nAnyone flying into the area\, you will need to fly into Portland International Airport (PDX). \n\nCAMP COST & REGISTRATION\n\n\n5 Day Experience – Cost: $1400 (SOLD OUT)\n\n5 Full Days of Training (including the 3 day camp)\nCamp T-Shirts\nSaturday Evening Birthday BBQ\nLunch Provided Each Day\nDinner Provided Day 1 & 2\nHandmade Damascus Bowie Bolo & Bram Bowie\nMatching training drones from TakKnife.com\nCustomized CRMIPT\n\nFull Camp – Cost: $400 (PreRegister $325)\n\n3 Full Days of Training\nCamp T-Shirt\nSaturday Evening Birthday BBQ\nLunch Provided Each Day\nREGISTER FOR THE CAMP\nInstructor Certification – $150 (add on)\nREGISTER TO BE AN INSTRUCTOR\n\nDaily Training – Cost: $150 per day (PreRegister $125)\n\nFriday Only –  (includes Lunch)\nSaturday Only –  (includes Lunch)\nSunday Only – (includes Lunch)\nCamp T-Shirt included\nDiscount if multiple days are chosen\nREGISTER TODAY\n\nVirtual Training – $250 full camp (PreRegister $200)\n\n3 Full Days of Virtual Training (Via Zoom)\nAccess to video after the camp\nCamp T-Shirt\nREGISTER FOR VIRTUAL\n\nCamp Registration\nCamp Registration is now open… REGISTER TODAY! \n\nGrandmaster Bram Frank’s birthday is in July.  After a successful 65th birthday bash and training camp in 2018\, we decided to continue this tradition each year.  If you want to train with GM Frank and help him celebrate his birthday\, this is the camp to go to.
URL:https://progressivearnis.com/event/brams-birthday-bash-2023/
LOCATION:Artisan Martial Arts\, 3514 NE 150th Avenue\, Vancouver\, Washington\, 98682\, United States
CATEGORIES:Seminar
ATTACH;FMTTYPE=image/jpeg:https://progressivearnis.com/wp-content/uploads/2023/06/CSSD-SC-logo-300x300-1.jpg
END:VEVENT
BEGIN:VEVENT
DTSTART;VALUE=DATE:20230707
DTEND;VALUE=DATE:20230709
DTSTAMP:20260425T051512
CREATED:20230630T213317Z
LAST-MODIFIED:20240908T220330Z
UID:10000009-1688688000-1688860799@progressivearnis.com
SUMMARY:Arnis Double Header Seminar w/ Guro Bruce Chiu and Guro Chad Bailey
DESCRIPTION:Don’t Miss your Opportunity to train with these two top rated grandmasters for the first time together in our school! Space is extremely limited and will fill up fast! Make plans to reserve your spot now for this first ever event. Both Instructors are highly skilled in their art and are coming to share their combined years of study with you. Be sure to reserve your space today\, you wont be disappointed! \nDate: Friday July 7\,2023 6:00-9:00 \nSaturday July 8\,2023 9:00-3:00 \nLunch will be provided on Saturday 12:00-12:30 \n$95 1 day \n$125 for both days (cash only at the door \nBMIAI \nKARATE \n8029 Ramona Blvd West \nJacksonville\, FL 32221 \n(Behind speedway-next to Domino’s) \nHotel Information \nHampton Inn-(904)783-8277 \n548 Chaffee Point Blvd \nJacksonville\, FI. 32221 \nRegistration \nSend registration to or contact: \nJerald Carter \n9247 Hawks Haven Ct. \nJacksonville\, FI. 32222 \n(904)742-7007 \nmastercarter@comcast.net
URL:https://progressivearnis.com/event/arnis-double-header-seminar-w-guro-bruce-chiu-and-guro-chad-bailey/
LOCATION:Carter Martial Arts Institute\, 9247 Hawks Haven Ct.\, Jacksonville\, FL\, 32222\, United States
CATEGORIES:Seminar
ATTACH;FMTTYPE=image/png:https://progressivearnis.com/wp-content/uploads/2023/06/ArnisSeminarCMAI.png
ORGANIZER;CN="Jerald Carter":MAILTO:mastercarter@comcast.net
END:VEVENT
BEGIN:VEVENT
DTSTART;VALUE=DATE:20230610
DTEND;VALUE=DATE:20230612
DTSTAMP:20260425T051512
CREATED:20230609T164508Z
LAST-MODIFIED:20230612T004834Z
UID:10000002-1686355200-1686527999@progressivearnis.com
SUMMARY:W. HOCK HOCHHEIM'S SEMINAR HAND STICK KNIFE GUN AND MARTIAL SKILL DRILLS
DESCRIPTION:W. Hock Hochheim \nHand\, Stick\, Knife\, Gun and PAC-FMA Seminar \nJune 10-11\, 2023 Colorado Springs\, CO \nWITH\, WITHOUT and AGAINST WEAPONS \nSpecial emphasis on: \nTakedowns While holding weapons and Counters to Common Takedowns. Stick\, Knife and Gun Weapon retention. \nCounter Crime. \nWith a Special Guest – Coach Jeff Burger and his Houdini Jujitsu \n$99 Preregistration: pay the tuition out over several months. \n$150 for any one day. \n$200 for two days. \n“Yes the first hour on Saturday is sheer survival and is free for all \nto all to attend. Listen and do. It’s important for all to know. \nThen say “adios.” (Or stay and enroll). – Hock \nHock Hochheim is a military vet\, police vet\, martial arts vet and prior private investigator and bodyguard\, with 51 years experience in hand\, stick\, knife and gun problem-solving. This is his 27th year teaching in 8 to 12 countries a year. Hock’s taught his Force Necessary and FMA-PAC courses to thousands of people\, been a paid consultant in every branch of the US Military\, taught in police academies in the USA and as far as England\, Ireland\, South Africa\, Italy\, Belgium\, Germany and Australia\, as well as martial schools and military bases around the world. Find out why he is one of these rare few international\, sought-after trainers worldwide! Find out why! Attend a seminar. Collect his books. Stream his videos. Come to this Colorado Springs seminar! \nHeld at: \nCoppock’s Kenpo Karate School\, 5923 N. Academy Blvd \nColorado Springs\, CO 80918 \n* $99 preregisration. Spread the tuition over two months! \n* $200 2 days \n* $150 any one day \n* $750. Special Group Rate! $750! Traveling in? Staying at hotel? Bring in 5 to 8 of your tightly connected students/friends of your group – school for only $700. (Please\, all must be officially with you. ALL MUST be travelers\, needing to stay in a hotel. No sandbagging. The host is expending a lot of time and money to organize this. If at least 5 do not show that morning? Then\, the tuition returns to individual attendance of $200 per person.) \n9:45 a.m. to 4.p.m. each day. \nPlease wear street clothes! Especially pants with pockets and a street belt. Please bring ALL your gear. Training knives\, guns\, sticks. Two focus mitts or two Thai-style pads. We will have some to share\, but it would be wise and helpful to bring some. On the training knives\, please try to bring a dull\, training folder. If you have a fixed blade trainer\, having a sheath and belt for it would be good. Try to bring a (cheap) generic hoster for your training pistol. \nCheck Hock’s endorsements here: \nhttps://www.forcenecessary.com/hock-hochheim-biographic-resume-info/hock-hochheim-endorsements/ \nCheck Hock’s bio here: \nhttps://www.forcenecessary.com/hock-hochheim-biographic-resume-info/ \nPlease wear street clothes! Especially pants with pockets and a street belt. Please bring ALL your gear. Of course\, we will have some to share\, but it’s always wise and helpful to bring your stuff. If possible\, try to bring an empty pistol holder along with your favorite training gun (we sill have some.) \nFor more info\, costs and registration information\, etc. – click here \n\n\n\n\n\n\n\n\n\n\n\n\n\n\n\n\n\n\n\n\n\n\n\n\n\n\n\n\n\n\n\n\n\n\n\n\n\n\n\n\n\n\n\n\n\n\n\n\n\n\n\n\n\n\n\n\n\n\n\n\n\n\n\n\n\n\n\n\n\n\n\n\n\n\n\n\n\n\n\n\n\n\n\n\n\n\n\n\n\n\n\n\n\n\n\n\n\n\n\n\nSPECIAL GUEST Coach Jeff Burger. \nThe simple escapes from common and uncommon submissions and captures. Learn to counter and defeat! \n\n\n\n\n\n\n\n\n\n\n\n\n\n\n\n\n\n\n\n\n\n\n\n\n\n\n\n\n\n\n\nWatch it and a host of others full hour training films\, FREE! On Hock’s Combatives TV channel. \nClick here. \n\n\n\n\n\n\n\n\n\n\n\n\n\n\n\n\nGet the Ebook\, click here \nGet the Audible audio\, click here
URL:https://progressivearnis.com/event/w-hock-hochheims-seminar-hand-stick-knife-gun-and-martial-skill-drills/
LOCATION:Coppock’s Kenpo Karate School\, 5923 N. Academy Blvd\, Colorado Springs\, CO\, 80918\, United States
CATEGORIES:Seminar
ATTACH;FMTTYPE=image/png:https://progressivearnis.com/wp-content/uploads/2023/06/Screenshot-2023-06-09-at-10.54.39-AM.png
END:VEVENT
BEGIN:VEVENT
DTSTART;TZID=America/Denver:20230519T000000
DTEND;TZID=America/Denver:20230521T235959
DTSTAMP:20260425T051512
CREATED:20230508T233024Z
LAST-MODIFIED:20240908T233616Z
UID:10000001-1684454400-1684713599@progressivearnis.com
SUMMARY:Rocky Mountain Thunder 2023
DESCRIPTION:Rocky Mountain Thunder (RMT) is an annual event founded by Hanshi Ron Carlson and Lao Shr Wayne Welsh to spread the knowledge of multiple martial arts to those seeking healing and combative arts. This year’s lineup of teachers includes more than 10 different disciplines covering conceptual to technique-specific martial arts development. 
URL:https://progressivearnis.com/event/rocky-mountain-thunder/
LOCATION:Hyland Hills Dojo\, 9165 Lowell Blvd.\, Westminster\, CO\, 80031\, United States
CATEGORIES:Seminar
ATTACH;FMTTYPE=image/jpeg:https://progressivearnis.com/wp-content/uploads/2023/05/RMT2023-flier-scaled.jpg
ORGANIZER;CN="Hanshi Ron Carlson":MAILTO:kempojitsu36@gmail.com
END:VEVENT
END:VCALENDAR