BEGIN:VCALENDAR
VERSION:2.0
PRODID:-//Progressive Arnis - ECPv6.15.20//NONSGML v1.0//EN
CALSCALE:GREGORIAN
METHOD:PUBLISH
X-WR-CALNAME:Progressive Arnis
X-ORIGINAL-URL:https://progressivearnis.com
X-WR-CALDESC:Events for Progressive Arnis
REFRESH-INTERVAL;VALUE=DURATION:PT1H
X-Robots-Tag:noindex
X-PUBLISHED-TTL:PT1H
BEGIN:VTIMEZONE
TZID:America/New_York
BEGIN:DAYLIGHT
TZOFFSETFROM:-0500
TZOFFSETTO:-0400
TZNAME:EDT
DTSTART:20240310T070000
END:DAYLIGHT
BEGIN:STANDARD
TZOFFSETFROM:-0400
TZOFFSETTO:-0500
TZNAME:EST
DTSTART:20241103T060000
END:STANDARD
BEGIN:DAYLIGHT
TZOFFSETFROM:-0500
TZOFFSETTO:-0400
TZNAME:EDT
DTSTART:20250309T070000
END:DAYLIGHT
BEGIN:STANDARD
TZOFFSETFROM:-0400
TZOFFSETTO:-0500
TZNAME:EST
DTSTART:20251102T060000
END:STANDARD
BEGIN:DAYLIGHT
TZOFFSETFROM:-0500
TZOFFSETTO:-0400
TZNAME:EDT
DTSTART:20260308T070000
END:DAYLIGHT
BEGIN:STANDARD
TZOFFSETFROM:-0400
TZOFFSETTO:-0500
TZNAME:EST
DTSTART:20261101T060000
END:STANDARD
END:VTIMEZONE
BEGIN:VEVENT
DTSTART;TZID=America/New_York:20250926T000000
DTEND;TZID=America/New_York:20250928T235959
DTSTAMP:20260425T094933
CREATED:20241030T145013Z
LAST-MODIFIED:20250106T000406Z
UID:10000027-1758844800-1759103999@progressivearnis.com
SUMMARY:Modern Arnis World Legacy Camp 2025
DESCRIPTION:GM Brian Zawilinski is hosting another Modern Arnis World Legacy Camp in 2025! This has come to be the second of what will be a bi-annual event. Select instructors will be invited to share their practice of Modern Arnis as they have transformed the late/great Remy Presas’s lessons into their own art. Modern Arnis is the foundation for Progressive Arnis\, as Guro Bailey was among Professor Presas’s students. Don’t miss this incredible opportunity to touch hands with some of the greatest and most influential Arnis practitioners in the world! \n\n\n\nRegistration for this event opens May 26\, 2025. Reserve your room at the Hotel Venue before the group rate is no longer available! \n\n\n\n\n\n\n\n\n\n\n\n\n\n\n\n\n\nFull Camp320.00Any 1-Day120.00Single Session70.00Dinner on Saturday20.00Video Download (Pre-Camp)40.00Video Download (During Camp)60.00Video Download (After Camp)80.00Hotel Group Rate (Per Night)149.00
URL:https://progressivearnis.com/event/modern-arnis-world-legacy-camp-2025/
LOCATION:Courtyard Marriott Hartford/Cromwell\, 4 Sebethe Drive\, Cromwell\, Connecticut\, 06416\, United States
CATEGORIES:Seminar
ATTACH;FMTTYPE=image/jpeg:https://progressivearnis.com/wp-content/uploads/2023/06/modernarnislegacycamp.jpg
END:VEVENT
END:VCALENDAR