BEGIN:VCALENDAR
VERSION:2.0
PRODID:-//Progressive Arnis - ECPv6.15.20//NONSGML v1.0//EN
CALSCALE:GREGORIAN
METHOD:PUBLISH
X-ORIGINAL-URL:https://progressivearnis.com
X-WR-CALDESC:Events for Progressive Arnis
REFRESH-INTERVAL;VALUE=DURATION:PT1H
X-Robots-Tag:noindex
X-PUBLISHED-TTL:PT1H
BEGIN:VTIMEZONE
TZID:America/Denver
BEGIN:DAYLIGHT
TZOFFSETFROM:-0700
TZOFFSETTO:-0600
TZNAME:MDT
DTSTART:20240310T090000
END:DAYLIGHT
BEGIN:STANDARD
TZOFFSETFROM:-0600
TZOFFSETTO:-0700
TZNAME:MST
DTSTART:20241103T080000
END:STANDARD
BEGIN:DAYLIGHT
TZOFFSETFROM:-0700
TZOFFSETTO:-0600
TZNAME:MDT
DTSTART:20250309T090000
END:DAYLIGHT
BEGIN:STANDARD
TZOFFSETFROM:-0600
TZOFFSETTO:-0700
TZNAME:MST
DTSTART:20251102T080000
END:STANDARD
BEGIN:DAYLIGHT
TZOFFSETFROM:-0700
TZOFFSETTO:-0600
TZNAME:MDT
DTSTART:20260308T090000
END:DAYLIGHT
BEGIN:STANDARD
TZOFFSETFROM:-0600
TZOFFSETTO:-0700
TZNAME:MST
DTSTART:20261101T080000
END:STANDARD
END:VTIMEZONE
BEGIN:VEVENT
DTSTART;TZID=America/Denver:20250606T160000
DTEND;TZID=America/Denver:20250608T183000
DTSTAMP:20260425T144011
CREATED:20240816T210316Z
LAST-MODIFIED:20240908T224833Z
UID:10000022-1749225600-1749407400@progressivearnis.com
SUMMARY:Rocky Mountain Thunder 2025
DESCRIPTION:Another great lineup of the greatest local and not-so-local martial arts instructors and practitioners bring us kung-fu\, karate\, wing chun\, tactical cane\, kempo\, juijitsu\, arnis and silat.  This will be the biggest and baddest one yet. Don’t miss it!
URL:https://progressivearnis.com/event/rocky-mountain-thunder-2025/
LOCATION:Hyland Hills Dojo\, 9165 Lowell Blvd.\, Westminster\, CO\, 80031\, United States
CATEGORIES:Seminar
ATTACH;FMTTYPE=image/png:https://progressivearnis.com/wp-content/uploads/2024/01/cropped-RMT-Logo2-2.png
ORGANIZER;CN="Hanshi Ron Carlson":MAILTO:kempojitsu36@gmail.com
END:VEVENT
END:VCALENDAR